BEGIN:VCALENDAR
VERSION:2.0
PRODID:-//bishoustonpto.com - ECPv6.15.20//NONSGML v1.0//EN
CALSCALE:GREGORIAN
METHOD:PUBLISH
X-WR-CALNAME:bishoustonpto.com
X-ORIGINAL-URL:https://bishoustonpto.com
X-WR-CALDESC:Events for bishoustonpto.com
REFRESH-INTERVAL;VALUE=DURATION:PT1H
X-Robots-Tag:noindex
X-PUBLISHED-TTL:PT1H
BEGIN:VTIMEZONE
TZID:America/Chicago
BEGIN:DAYLIGHT
TZOFFSETFROM:-0600
TZOFFSETTO:-0500
TZNAME:CDT
DTSTART:20220313T080000
END:DAYLIGHT
BEGIN:STANDARD
TZOFFSETFROM:-0500
TZOFFSETTO:-0600
TZNAME:CST
DTSTART:20221106T070000
END:STANDARD
BEGIN:DAYLIGHT
TZOFFSETFROM:-0600
TZOFFSETTO:-0500
TZNAME:CDT
DTSTART:20230312T080000
END:DAYLIGHT
BEGIN:STANDARD
TZOFFSETFROM:-0500
TZOFFSETTO:-0600
TZNAME:CST
DTSTART:20231105T070000
END:STANDARD
BEGIN:DAYLIGHT
TZOFFSETFROM:-0600
TZOFFSETTO:-0500
TZNAME:CDT
DTSTART:20240310T080000
END:DAYLIGHT
BEGIN:STANDARD
TZOFFSETFROM:-0500
TZOFFSETTO:-0600
TZNAME:CST
DTSTART:20241103T070000
END:STANDARD
END:VTIMEZONE
BEGIN:VEVENT
DTSTART;TZID=America/Chicago:20230916T190000
DTEND;TZID=America/Chicago:20230916T230000
DTSTAMP:20260419T121226
CREATED:20230817T153527Z
LAST-MODIFIED:20230828T220623Z
UID:5301-1694890800-1694905200@bishoustonpto.com
SUMMARY:Quiz & Curry Night
DESCRIPTION:Come join the BIS Houston school community for a fun quiz\, socializing\, and delicious Indian food! \nTickets will go on sale on Tuesday\, August 29\, 2023. Early Bird tickets are $45 (through September 6) and Regular tickets are $50 (Sep. 7 – 14). \nThere is open seating unless you want to ensure that your party sits together at your preferred table size. To do that\, you can add a table reservation when buying your individual tickets.  You can reserve a table of 8 seats\, 6 seats\, or 4 seats.  We will place the name of the person buying the reservation on the table so that you know which one is yours. \nFor more information\, email info@bishoustonpto.com. \nWe look forward to seeing you for an evening of laughter and good food!
URL:https://bishoustonpto.com/index.php/event/quiz-curry-night-2/
CATEGORIES:Fundraising,Parent Events
ATTACH;FMTTYPE=image/png:https://bishoustonpto.com/wp-content/uploads/2023/08/QC-Header.png
END:VEVENT
END:VCALENDAR