BEGIN:VCALENDAR
VERSION:2.0
PRODID:-//bishoustonpto.com - ECPv6.15.20//NONSGML v1.0//EN
CALSCALE:GREGORIAN
METHOD:PUBLISH
X-ORIGINAL-URL:https://bishoustonpto.com
X-WR-CALDESC:Events for bishoustonpto.com
REFRESH-INTERVAL;VALUE=DURATION:PT1H
X-Robots-Tag:noindex
X-PUBLISHED-TTL:PT1H
BEGIN:VTIMEZONE
TZID:America/Chicago
BEGIN:DAYLIGHT
TZOFFSETFROM:-0600
TZOFFSETTO:-0500
TZNAME:CDT
DTSTART:20230312T080000
END:DAYLIGHT
BEGIN:STANDARD
TZOFFSETFROM:-0500
TZOFFSETTO:-0600
TZNAME:CST
DTSTART:20231105T070000
END:STANDARD
BEGIN:DAYLIGHT
TZOFFSETFROM:-0600
TZOFFSETTO:-0500
TZNAME:CDT
DTSTART:20240310T080000
END:DAYLIGHT
BEGIN:STANDARD
TZOFFSETFROM:-0500
TZOFFSETTO:-0600
TZNAME:CST
DTSTART:20241103T070000
END:STANDARD
BEGIN:DAYLIGHT
TZOFFSETFROM:-0600
TZOFFSETTO:-0500
TZNAME:CDT
DTSTART:20250309T080000
END:DAYLIGHT
BEGIN:STANDARD
TZOFFSETFROM:-0500
TZOFFSETTO:-0600
TZNAME:CST
DTSTART:20251102T070000
END:STANDARD
END:VTIMEZONE
BEGIN:VEVENT
DTSTART;TZID=America/Chicago:20241008T083000
DTEND;TZID=America/Chicago:20241008T093000
DTSTAMP:20260425T053535
CREATED:20240916T185220Z
LAST-MODIFIED:20240916T235739Z
UID:8301-1728376200-1728379800@bishoustonpto.com
SUMMARY:Winter Fayre Meeting
DESCRIPTION:Come join us for chat about Winter Fayre! See ways to get involved and take part in the event. Bring your ideas! \nAll help is appreciated for an hour or a few days\, there is something for everyone!
URL:https://bishoustonpto.com/index.php/event/membership-meeting-2-2-2-2/
LOCATION:BOMA
CATEGORIES:PTO Organization,Winter Fayre
ATTACH;FMTTYPE=image/jpeg:https://bishoustonpto.com/wp-content/uploads/2024/09/Winter-Fayre-Meeting.jpg
END:VEVENT
BEGIN:VEVENT
DTSTART;TZID=America/Chicago:20241011T083000
DTEND;TZID=America/Chicago:20241011T093000
DTSTAMP:20260425T053535
CREATED:20240807T030701Z
LAST-MODIFIED:20240807T030701Z
UID:7869-1728635400-1728639000@bishoustonpto.com
SUMMARY:Monthly Coffee Morning
DESCRIPTION:This is our casual\, monthly coffee. Bring your own coffee or buy one in the BOMA and join other parents for a chat.
URL:https://bishoustonpto.com/index.php/event/monthly-coffee-morning-2/
LOCATION:BOMA
CATEGORIES:Coffee Mornings
ATTACH;FMTTYPE=image/png:https://bishoustonpto.com/wp-content/uploads/2024/08/BYOC-MORNINGS-Facebook-Cover.png
END:VEVENT
BEGIN:VEVENT
DTSTART;TZID=America/Chicago:20241021T083000
DTEND;TZID=America/Chicago:20241021T093000
DTSTAMP:20260425T053535
CREATED:20240916T183828Z
LAST-MODIFIED:20240916T235401Z
UID:8296-1729499400-1729503000@bishoustonpto.com
SUMMARY:International Day Country Ambassador Meeting 2
DESCRIPTION:Country Ambassador/ Lead meeting:  More information for International Day.\nLocation: BOMA
URL:https://bishoustonpto.com/index.php/event/international-day-2-2-2/
LOCATION:British International School of Houston\, TX\, United States
CATEGORIES:School Event
ATTACH;FMTTYPE=image/jpeg:https://bishoustonpto.com/wp-content/uploads/2024/09/International-Day-4.jpg
END:VEVENT
BEGIN:VEVENT
DTSTART;TZID=America/Chicago:20241025T083000
DTEND;TZID=America/Chicago:20241025T153000
DTSTAMP:20260425T053535
CREATED:20240807T040457Z
LAST-MODIFIED:20240807T040457Z
UID:7912-1729845000-1729870200@bishoustonpto.com
SUMMARY:International Day
DESCRIPTION:The much-loved event takes place on Friday\, October 20.  More details will be provided soon through the school newsletter.
URL:https://bishoustonpto.com/index.php/event/international-day-2/
LOCATION:British International School of Houston\, TX\, United States
CATEGORIES:School Event
ATTACH;FMTTYPE=image/jpeg:https://bishoustonpto.com/wp-content/uploads/2023/03/329931137_552936606788423_5749505556486442609_n.jpg
END:VEVENT
BEGIN:VEVENT
DTSTART;TZID=America/Chicago:20241030T083000
DTEND;TZID=America/Chicago:20241030T090000
DTSTAMP:20260425T053535
CREATED:20240813T114300Z
LAST-MODIFIED:20240813T114300Z
UID:7948-1730277000-1730278800@bishoustonpto.com
SUMMARY:Neighborhood Representatives Meeting
DESCRIPTION:Please join us for a short meeting and update in the BOMA from 8:30 – 9:00 am.
URL:https://bishoustonpto.com/index.php/event/neighborhood-representatives-meeting-2-2/
LOCATION:BOMA
CATEGORIES:Neighborhood Reps
ATTACH;FMTTYPE=image/png:https://bishoustonpto.com/wp-content/uploads/2024/08/Neigborhood-Reps.png
END:VEVENT
END:VCALENDAR