BEGIN:VCALENDAR
VERSION:2.0
PRODID:-//bishoustonpto.com - ECPv6.15.20//NONSGML v1.0//EN
CALSCALE:GREGORIAN
METHOD:PUBLISH
X-ORIGINAL-URL:https://bishoustonpto.com
X-WR-CALDESC:Events for bishoustonpto.com
REFRESH-INTERVAL;VALUE=DURATION:PT1H
X-Robots-Tag:noindex
X-PUBLISHED-TTL:PT1H
BEGIN:VTIMEZONE
TZID:America/Chicago
BEGIN:DAYLIGHT
TZOFFSETFROM:-0600
TZOFFSETTO:-0500
TZNAME:CDT
DTSTART:20230312T080000
END:DAYLIGHT
BEGIN:STANDARD
TZOFFSETFROM:-0500
TZOFFSETTO:-0600
TZNAME:CST
DTSTART:20231105T070000
END:STANDARD
BEGIN:DAYLIGHT
TZOFFSETFROM:-0600
TZOFFSETTO:-0500
TZNAME:CDT
DTSTART:20240310T080000
END:DAYLIGHT
BEGIN:STANDARD
TZOFFSETFROM:-0500
TZOFFSETTO:-0600
TZNAME:CST
DTSTART:20241103T070000
END:STANDARD
BEGIN:DAYLIGHT
TZOFFSETFROM:-0600
TZOFFSETTO:-0500
TZNAME:CDT
DTSTART:20250309T080000
END:DAYLIGHT
BEGIN:STANDARD
TZOFFSETFROM:-0500
TZOFFSETTO:-0600
TZNAME:CST
DTSTART:20251102T070000
END:STANDARD
END:VTIMEZONE
BEGIN:VEVENT
DTSTART;TZID=America/Chicago:20240910T083000
DTEND;TZID=America/Chicago:20240910T093000
DTSTAMP:20260425T071318
CREATED:20240807T025631Z
LAST-MODIFIED:20240807T025731Z
UID:7855-1725957000-1725960600@bishoustonpto.com
SUMMARY:Membership Meeting
DESCRIPTION:Every Parent\, Guardian\, Teacher\, and Staff Member is an automatic part of the PTO. Please join us for our Membership Meeting on September 10\, 2024\, in the BOMA from 8:30 – 9:20 am. There will be a fun icebreaker and then conduct a short round of business. Drink the coffee! Eat the pastries! Come and get involved with your fellow parents and the school!
URL:https://bishoustonpto.com/index.php/event/membership-meeting/
LOCATION:BOMA
CATEGORIES:PTO Organization
ATTACH;FMTTYPE=image/png:https://bishoustonpto.com/wp-content/uploads/2024/02/PTO-MEMBERSHIP-MEETING-2-e1709226176767.png
END:VEVENT
BEGIN:VEVENT
DTSTART;TZID=America/Chicago:20240913T083000
DTEND;TZID=America/Chicago:20240913T093000
DTSTAMP:20260425T071318
CREATED:20240807T030314Z
LAST-MODIFIED:20240807T030557Z
UID:7860-1726216200-1726219800@bishoustonpto.com
SUMMARY:Monthly Coffee Morning
DESCRIPTION:This is our casual\, monthly coffee. Bring your own coffee or buy one in the BOMA and join other parents for a chat.
URL:https://bishoustonpto.com/index.php/event/monthly-coffee-morning/
LOCATION:BOMA
CATEGORIES:Coffee Mornings
ATTACH;FMTTYPE=image/png:https://bishoustonpto.com/wp-content/uploads/2024/08/BYOC-MORNINGS-Facebook-Cover.png
END:VEVENT
BEGIN:VEVENT
DTSTART;TZID=America/Chicago:20240923T083000
DTEND;TZID=America/Chicago:20240923T093000
DTSTAMP:20260425T071318
CREATED:20240916T135427Z
LAST-MODIFIED:20240916T183907Z
UID:8283-1727080200-1727083800@bishoustonpto.com
SUMMARY:International Day Ambassador Meeting 1
DESCRIPTION:Country Ambassador/ Lead meeting:  More information for International Day.\nLocation: School Theatre
URL:https://bishoustonpto.com/index.php/event/international-day-2-2/
LOCATION:British International School of Houston\, TX\, United States
CATEGORIES:School Event
ATTACH;FMTTYPE=image/jpeg:https://bishoustonpto.com/wp-content/uploads/2024/09/International-Day-4.jpg
END:VEVENT
BEGIN:VEVENT
DTSTART;TZID=America/Chicago:20240925T083000
DTEND;TZID=America/Chicago:20240925T090000
DTSTAMP:20260425T071318
CREATED:20240813T114217Z
LAST-MODIFIED:20240813T114217Z
UID:7945-1727253000-1727254800@bishoustonpto.com
SUMMARY:Neighborhood Representatives Meeting
DESCRIPTION:Please join us for a short meeting and update in the BOMA from 8:30 – 9:00 am.
URL:https://bishoustonpto.com/index.php/event/neighborhood-representatives-meeting-2/
LOCATION:BOMA
CATEGORIES:Neighborhood Reps
ATTACH;FMTTYPE=image/png:https://bishoustonpto.com/wp-content/uploads/2024/08/Neigborhood-Reps.png
END:VEVENT
END:VCALENDAR