BEGIN:VCALENDAR
VERSION:2.0
PRODID:-//bishoustonpto.com - ECPv6.15.20//NONSGML v1.0//EN
CALSCALE:GREGORIAN
METHOD:PUBLISH
X-WR-CALNAME:bishoustonpto.com
X-ORIGINAL-URL:https://bishoustonpto.com
X-WR-CALDESC:Events for bishoustonpto.com
REFRESH-INTERVAL;VALUE=DURATION:PT1H
X-Robots-Tag:noindex
X-PUBLISHED-TTL:PT1H
BEGIN:VTIMEZONE
TZID:America/Chicago
BEGIN:DAYLIGHT
TZOFFSETFROM:-0600
TZOFFSETTO:-0500
TZNAME:CDT
DTSTART:20230312T080000
END:DAYLIGHT
BEGIN:STANDARD
TZOFFSETFROM:-0500
TZOFFSETTO:-0600
TZNAME:CST
DTSTART:20231105T070000
END:STANDARD
BEGIN:DAYLIGHT
TZOFFSETFROM:-0600
TZOFFSETTO:-0500
TZNAME:CDT
DTSTART:20240310T080000
END:DAYLIGHT
BEGIN:STANDARD
TZOFFSETFROM:-0500
TZOFFSETTO:-0600
TZNAME:CST
DTSTART:20241103T070000
END:STANDARD
BEGIN:DAYLIGHT
TZOFFSETFROM:-0600
TZOFFSETTO:-0500
TZNAME:CDT
DTSTART:20250309T080000
END:DAYLIGHT
BEGIN:STANDARD
TZOFFSETFROM:-0500
TZOFFSETTO:-0600
TZNAME:CST
DTSTART:20251102T070000
END:STANDARD
END:VTIMEZONE
BEGIN:VEVENT
DTSTART;TZID=America/Chicago:20240504T190000
DTEND;TZID=America/Chicago:20240504T230000
DTSTAMP:20260425T140012
CREATED:20240220T193019Z
LAST-MODIFIED:20240417T171310Z
UID:6735-1714849200-1714863600@bishoustonpto.com
SUMMARY:Year 11 Prom Night
DESCRIPTION:Year 11 will hold its Prom on May 4\, 2024\, from 7:00 pm – 11:00 pm.  Tickets are required! \nPlease buy your tickets and prepare to come dressed in formal attire. \nTicket sales are open through April 12\, 2024\, at noon. \nPlease enter the student’s name in the ‘Additional Information’ box during checkout.
URL:https://bishoustonpto.com/index.php/event/year-11-prom-night/
LOCATION:Royal Oaks Country Club\, 2910 Royal Oaks Club Dr\, Houston\, TX\, 77082\, United States
ATTACH;FMTTYPE=image/jpeg:https://bishoustonpto.com/wp-content/uploads/2024/02/Y11-Prom-Invite-2024-scaled.jpg
END:VEVENT
BEGIN:VEVENT
DTSTART;TZID=America/Chicago:20240517T190000
DTEND;TZID=America/Chicago:20240517T213000
DTSTAMP:20260425T140012
CREATED:20240313T182423Z
LAST-MODIFIED:20240511T154526Z
UID:6914-1715972400-1715981400@bishoustonpto.com
SUMMARY:Year 9 Graduation
DESCRIPTION:Year 9 students are invited to attend the Year 9 Graduation Celebration at the Clubhouse at Lakes of Parkway on May 17\, 2024\, from 7:00 p.m. to 9:30 p.m. \nWe are asking for a $25 donation per attendee to help cover costs. \nIf your family would also like to be a sponsor\, please see some additional options below. Every little helps! \nIt will be a fantastic night with three rooms of fun\, including music\, dancing\, photo opportunities\, snacks and drinks\, and a chill-out space. \nThe event will be supervised\, and only year 9 students are welcome to attend. \nDress code: No pressure! Dress formal or casual as you feel. \nPlease be sure to include the student’s name in the “ADDITIONAL INFORMATION” box that is visible during the checkout process. \nGo Year 9 Bulldogs!
URL:https://bishoustonpto.com/index.php/event/year-9-graduation/
LOCATION:Clubhouse\, Lakes of Parkway\, 13935 Barnhart Blvd.\, Houston\, TX\, 77077\, United States
CATEGORIES:School Event
ATTACH;FMTTYPE=image/png:https://bishoustonpto.com/wp-content/uploads/2024/03/Cropped-Year-9-Graduation.png
END:VEVENT
END:VCALENDAR