BEGIN:VCALENDAR
VERSION:2.0
PRODID:-//bishoustonpto.com - ECPv6.15.20//NONSGML v1.0//EN
CALSCALE:GREGORIAN
METHOD:PUBLISH
X-WR-CALNAME:bishoustonpto.com
X-ORIGINAL-URL:https://bishoustonpto.com
X-WR-CALDESC:Events for bishoustonpto.com
REFRESH-INTERVAL;VALUE=DURATION:PT1H
X-Robots-Tag:noindex
X-PUBLISHED-TTL:PT1H
BEGIN:VTIMEZONE
TZID:America/Chicago
BEGIN:DAYLIGHT
TZOFFSETFROM:-0600
TZOFFSETTO:-0500
TZNAME:CDT
DTSTART:20220313T080000
END:DAYLIGHT
BEGIN:STANDARD
TZOFFSETFROM:-0500
TZOFFSETTO:-0600
TZNAME:CST
DTSTART:20221106T070000
END:STANDARD
BEGIN:DAYLIGHT
TZOFFSETFROM:-0600
TZOFFSETTO:-0500
TZNAME:CDT
DTSTART:20230312T080000
END:DAYLIGHT
BEGIN:STANDARD
TZOFFSETFROM:-0500
TZOFFSETTO:-0600
TZNAME:CST
DTSTART:20231105T070000
END:STANDARD
BEGIN:DAYLIGHT
TZOFFSETFROM:-0600
TZOFFSETTO:-0500
TZNAME:CDT
DTSTART:20240310T080000
END:DAYLIGHT
BEGIN:STANDARD
TZOFFSETFROM:-0500
TZOFFSETTO:-0600
TZNAME:CST
DTSTART:20241103T070000
END:STANDARD
END:VTIMEZONE
BEGIN:VEVENT
DTSTART;TZID=America/Chicago:20231109T080000
DTEND;TZID=America/Chicago:20231109T100000
DTSTAMP:20260425T231758
CREATED:20231108T161103Z
LAST-MODIFIED:20231108T172016Z
UID:6120-1699516800-1699524000@bishoustonpto.com
SUMMARY:Winter Fayre Express Decoration Making and Fayre preparation
DESCRIPTION:Join us in the Boma to create a magical winterland! We need your help for the decorations and preparation of the crafts and keepsakes! \nAll materials will be provided.
URL:https://bishoustonpto.com/index.php/event/winter-fayre-express-decoration-making/
LOCATION:BOMA
ATTACH;FMTTYPE=image/jpeg:https://bishoustonpto.com/wp-content/uploads/2023/11/WhatsApp-Image-2023-11-08-at-11.07.52.jpeg
END:VEVENT
BEGIN:VEVENT
DTSTART;TZID=America/Chicago:20231113T153000
DTEND;TZID=America/Chicago:20231113T170000
DTSTAMP:20260425T231758
CREATED:20231108T161839Z
LAST-MODIFIED:20231108T171723Z
UID:6126-1699889400-1699894800@bishoustonpto.com
SUMMARY:Gingerbread House Making
DESCRIPTION:Family event: decorate your own gingerbread house! Houses will be displayed in the school. \nIt’s a “bring your own kit” family event. No kids supervision provided.
URL:https://bishoustonpto.com/index.php/event/gingerbread-house-making/
LOCATION:BOMA
ATTACH;FMTTYPE=image/jpeg:https://bishoustonpto.com/wp-content/uploads/2023/11/WhatsApp-Image-2023-11-08-at-11.07.52-1.jpeg
END:VEVENT
BEGIN:VEVENT
DTSTART;TZID=America/Chicago:20231116T080000
DTEND;TZID=America/Chicago:20231116T103000
DTSTAMP:20260425T231758
CREATED:20231108T161207Z
LAST-MODIFIED:20231108T171941Z
UID:6123-1700121600-1700130600@bishoustonpto.com
SUMMARY:Winter Fayre Express Decoration Making and Fayre Preparation
DESCRIPTION:Join us in the Boma to create a magical winterland! We need your help for the decorations and preparation of the crafts and keepsakes! \nAll materials will be provided.
URL:https://bishoustonpto.com/index.php/event/winter-fayre-express-decoration-making-2/
LOCATION:BOMA
ATTACH;FMTTYPE=image/jpeg:https://bishoustonpto.com/wp-content/uploads/2023/11/WhatsApp-Image-2023-11-08-at-11.07.52.jpeg
END:VEVENT
BEGIN:VEVENT
DTSTART;TZID=America/Chicago:20231117T083000
DTEND;TZID=America/Chicago:20231117T093000
DTSTAMP:20260425T231758
CREATED:20230817T224230Z
LAST-MODIFIED:20230817T224230Z
UID:5358-1700209800-1700213400@bishoustonpto.com
SUMMARY:Monthly PTO Meeting
DESCRIPTION:The PTO Executive Team meets on the last Friday of every month to review PTO agenda items.
URL:https://bishoustonpto.com/index.php/event/monthly-pto-meeting-2/
LOCATION:BOMA
CATEGORIES:PTO Organization
ATTACH;FMTTYPE=image/png:https://bishoustonpto.com/wp-content/uploads/2023/08/PTO-Team-Meeting.png
END:VEVENT
BEGIN:VEVENT
DTSTART;TZID=America/Chicago:20231117T133000
DTEND;TZID=America/Chicago:20231117T200000
DTSTAMP:20260425T231758
CREATED:20231108T175626Z
LAST-MODIFIED:20231108T175626Z
UID:6138-1700227800-1700251200@bishoustonpto.com
SUMMARY:Winter Fayre Set up
DESCRIPTION:Help us make this event magical! We need help to set up Santa’s grotto\, decorate… and more!
URL:https://bishoustonpto.com/index.php/event/winter-fayre-set-up/
ATTACH;FMTTYPE=image/jpeg:https://bishoustonpto.com/wp-content/uploads/2023/11/WhatsApp-Image-2023-11-08-at-11.53.46.jpeg
END:VEVENT
BEGIN:VEVENT
DTSTART;TZID=America/Chicago:20231118T110000
DTEND;TZID=America/Chicago:20231118T140000
DTSTAMP:20260425T231758
CREATED:20230822T201459Z
LAST-MODIFIED:20230822T201459Z
UID:5376-1700305200-1700316000@bishoustonpto.com
SUMMARY:Winter Fayre
DESCRIPTION:Join us for a delightful Winter Fayre with games\, crafts\, presents\, food\, vendors\, and even a visit with Santa! \nMore information soon.
URL:https://bishoustonpto.com/index.php/event/winter-fayre/
LOCATION:British International School of Houston\, TX\, United States
CATEGORIES:School Event,Winter Fayre
ATTACH;FMTTYPE=image/jpeg:https://bishoustonpto.com/wp-content/uploads/2023/03/316205261_5591530227562153_5371099900413234606_n.jpg
END:VEVENT
BEGIN:VEVENT
DTSTART;TZID=America/Chicago:20231128T180000
DTEND;TZID=America/Chicago:20231128T210000
DTSTAMP:20260425T231758
CREATED:20230928T165845Z
LAST-MODIFIED:20231122T190846Z
UID:5838-1701194400-1701205200@bishoustonpto.com
SUMMARY:Top Golf Parent Event
DESCRIPTION:Please join us at Top Golf on November 28\, 2023\, from 6:00 p.m. – 9:00 p.m. for a fantastic parent event! \nTickets (on sale until November 20\, 2023\, 7:00 p.m.) will cost $100 per person and include 3 hours of golf\, food\, and 2 drink coupons. \nWe have booked three bays of six people and will open up new bays once we sell out the first three. Email us at programs@bishoustonpto.com with questions. \n 
URL:https://bishoustonpto.com/index.php/event/top-golf-parent-event/
LOCATION:Top Golf\, 1030 Memorial Brook Blvd.\, Houston\, TX\, United States
CATEGORIES:Parent Events
ATTACH;FMTTYPE=image/jpeg:https://bishoustonpto.com/wp-content/uploads/2023/09/21691_tg-houstonkaty-exterior-night.jpg
END:VEVENT
END:VCALENDAR