BEGIN:VCALENDAR
VERSION:2.0
PRODID:-//bishoustonpto.com - ECPv6.15.20//NONSGML v1.0//EN
CALSCALE:GREGORIAN
METHOD:PUBLISH
X-WR-CALNAME:bishoustonpto.com
X-ORIGINAL-URL:https://bishoustonpto.com
X-WR-CALDESC:Events for bishoustonpto.com
REFRESH-INTERVAL;VALUE=DURATION:PT1H
X-Robots-Tag:noindex
X-PUBLISHED-TTL:PT1H
BEGIN:VTIMEZONE
TZID:America/Chicago
BEGIN:DAYLIGHT
TZOFFSETFROM:-0600
TZOFFSETTO:-0500
TZNAME:CDT
DTSTART:20230312T080000
END:DAYLIGHT
BEGIN:STANDARD
TZOFFSETFROM:-0500
TZOFFSETTO:-0600
TZNAME:CST
DTSTART:20231105T070000
END:STANDARD
BEGIN:DAYLIGHT
TZOFFSETFROM:-0600
TZOFFSETTO:-0500
TZNAME:CDT
DTSTART:20240310T080000
END:DAYLIGHT
BEGIN:STANDARD
TZOFFSETFROM:-0500
TZOFFSETTO:-0600
TZNAME:CST
DTSTART:20241103T070000
END:STANDARD
BEGIN:DAYLIGHT
TZOFFSETFROM:-0600
TZOFFSETTO:-0500
TZNAME:CDT
DTSTART:20250309T080000
END:DAYLIGHT
BEGIN:STANDARD
TZOFFSETFROM:-0500
TZOFFSETTO:-0600
TZNAME:CST
DTSTART:20251102T070000
END:STANDARD
BEGIN:DAYLIGHT
TZOFFSETFROM:-0600
TZOFFSETTO:-0500
TZNAME:CDT
DTSTART:20260308T080000
END:DAYLIGHT
BEGIN:STANDARD
TZOFFSETFROM:-0500
TZOFFSETTO:-0600
TZNAME:CST
DTSTART:20261101T070000
END:STANDARD
END:VTIMEZONE
BEGIN:VEVENT
DTSTART;TZID=America/Chicago:20241105T083000
DTEND;TZID=America/Chicago:20241105T093000
DTSTAMP:20260425T102757
CREATED:20240807T034141Z
LAST-MODIFIED:20240807T034154Z
UID:7893-1730795400-1730799000@bishoustonpto.com
SUMMARY:Membership Meeting
DESCRIPTION:Every Parent\, Guardian\, Teacher\, and Staff Member is an automatic part of the PTO. Please join us for our Membership Meeting on November 5\, 2024\, in the BOMA from 8:30 – 9:20 am. There will be a fun icebreaker and then conduct a short round of business. Drink the coffee! Eat the pastries! Come and get involved with your fellow parents and the school!
URL:https://bishoustonpto.com/index.php/event/membership-meeting-2/
LOCATION:BOMA
CATEGORIES:PTO Organization
ATTACH;FMTTYPE=image/png:https://bishoustonpto.com/wp-content/uploads/2024/02/PTO-MEMBERSHIP-MEETING-2-e1709226176767.png
END:VEVENT
BEGIN:VEVENT
DTSTART;TZID=America/Chicago:20241108T083000
DTEND;TZID=America/Chicago:20241108T093000
DTSTAMP:20260425T102757
CREATED:20240807T030739Z
LAST-MODIFIED:20240807T030739Z
UID:7872-1731054600-1731058200@bishoustonpto.com
SUMMARY:Monthly Coffee Morning
DESCRIPTION:This is our casual\, monthly coffee. Bring your own coffee or buy one in the BOMA and join other parents for a chat.
URL:https://bishoustonpto.com/index.php/event/monthly-coffee-morning-2-2/
LOCATION:BOMA
CATEGORIES:Coffee Mornings
ATTACH;FMTTYPE=image/png:https://bishoustonpto.com/wp-content/uploads/2024/08/BYOC-MORNINGS-Facebook-Cover.png
END:VEVENT
BEGIN:VEVENT
DTSTART;TZID=America/Chicago:20241118T153000
DTEND;TZID=America/Chicago:20241118T170000
DTSTAMP:20260425T102757
CREATED:20240921T231700Z
LAST-MODIFIED:20241010T193244Z
UID:8519-1731943800-1731949200@bishoustonpto.com
SUMMARY:Gingerbread House Decorating
DESCRIPTION:Family Event! \nPlease bring your own Gingerbread House to decorate in the BOMA from 3.30pm to 4.45pm. Kits can be purchased from all the major grocery stores. We recommend buying a pre-made house that only needs to be decorated with the limited time to avoid frustration! \nThere will be no school kid supervision\, this is a parent led event and parents should attend to help decorate and supervise their children! \nGingerbread Houses will be displayed at school after the event in the Foyer for all to enjoy at the Winter Fayre!
URL:https://bishoustonpto.com/index.php/event/gingerbread-house-making-2/
LOCATION:BOMA
CATEGORIES:PTO Organization,Winter Fayre
ATTACH;FMTTYPE=image/jpeg:https://bishoustonpto.com/wp-content/uploads/2024/09/Website-events-images-2.jpg
END:VEVENT
BEGIN:VEVENT
DTSTART;TZID=America/Chicago:20241120T083000
DTEND;TZID=America/Chicago:20241120T090000
DTSTAMP:20260425T102757
CREATED:20240813T114335Z
LAST-MODIFIED:20240813T114335Z
UID:7951-1732091400-1732093200@bishoustonpto.com
SUMMARY:Neighborhood Representatives Meeting
DESCRIPTION:Please join us for a short meeting and update in the BOMA from 8:30 – 9:00 am.
URL:https://bishoustonpto.com/index.php/event/neighborhood-representatives-meeting-2-2-2/
LOCATION:BOMA
CATEGORIES:Neighborhood Reps
ATTACH;FMTTYPE=image/png:https://bishoustonpto.com/wp-content/uploads/2024/08/Neigborhood-Reps.png
END:VEVENT
BEGIN:VEVENT
DTSTART;TZID=America/Chicago:20241123T110000
DTEND;TZID=America/Chicago:20241123T150000
DTSTAMP:20260425T102757
CREATED:20240807T040731Z
LAST-MODIFIED:20241027T201312Z
UID:7916-1732359600-1732374000@bishoustonpto.com
SUMMARY:Winter Fayre
DESCRIPTION:Join us for a delightful Winter Fayre with games\, crafts\, presents\, food\, vendors\, and even a visit with Santa! \nMore information soon.
URL:https://bishoustonpto.com/index.php/event/winter-fayre-2/
LOCATION:British International School of Houston\, TX\, United States
CATEGORIES:School Event,Winter Fayre
ATTACH;FMTTYPE=image/jpeg:https://bishoustonpto.com/wp-content/uploads/2024/08/Website-event-Winter-Fayre.jpg
END:VEVENT
BEGIN:VEVENT
DTSTART;TZID=America/Chicago:20241211T083000
DTEND;TZID=America/Chicago:20241211T093000
DTSTAMP:20260425T102757
CREATED:20240813T114422Z
LAST-MODIFIED:20240813T114422Z
UID:7954-1733905800-1733909400@bishoustonpto.com
SUMMARY:Neighborhood Rep Meeting - Holiday Celebration
DESCRIPTION:Please join us for a short meeting and update in the BOMA from 8:30 – 9:00 am.
URL:https://bishoustonpto.com/index.php/event/neighborhood-representatives-meeting-2-2-2-2/
LOCATION:BOMA
CATEGORIES:Neighborhood Reps
ATTACH;FMTTYPE=image/png:https://bishoustonpto.com/wp-content/uploads/2024/08/Neigborhood-Reps.png
END:VEVENT
BEGIN:VEVENT
DTSTART;TZID=America/Chicago:20241213T083000
DTEND;TZID=America/Chicago:20241213T093000
DTSTAMP:20260425T102757
CREATED:20240807T030821Z
LAST-MODIFIED:20240807T033441Z
UID:7875-1734078600-1734082200@bishoustonpto.com
SUMMARY:Monthly Coffee Morning
DESCRIPTION:This is our casual\, monthly coffee. Bring your own coffee or buy one in the BOMA and join other parents for a chat.
URL:https://bishoustonpto.com/index.php/event/monthly-coffee-morning-2-2-2/
LOCATION:BOMA
CATEGORIES:Coffee Mornings
ATTACH;FMTTYPE=image/png:https://bishoustonpto.com/wp-content/uploads/2024/08/BYOC-MORNINGS-Facebook-Cover.png
END:VEVENT
BEGIN:VEVENT
DTSTART;TZID=America/Chicago:20250110T083000
DTEND;TZID=America/Chicago:20250110T093000
DTSTAMP:20260425T102757
CREATED:20240807T033533Z
LAST-MODIFIED:20240807T033533Z
UID:7878-1736497800-1736501400@bishoustonpto.com
SUMMARY:Monthly Coffee Morning
DESCRIPTION:This is our casual\, monthly coffee. Bring your own coffee or buy one in the BOMA and join other parents for a chat.
URL:https://bishoustonpto.com/index.php/event/monthly-coffee-morning-2-2-2-2/
LOCATION:BOMA
CATEGORIES:Coffee Mornings
ATTACH;FMTTYPE=image/png:https://bishoustonpto.com/wp-content/uploads/2024/08/BYOC-MORNINGS-Facebook-Cover.png
END:VEVENT
BEGIN:VEVENT
DTSTART;TZID=America/Chicago:20250129T083000
DTEND;TZID=America/Chicago:20250129T090000
DTSTAMP:20260425T102757
CREATED:20240813T114515Z
LAST-MODIFIED:20240813T114515Z
UID:7957-1738139400-1738141200@bishoustonpto.com
SUMMARY:Neighborhood Representatives Meeting
DESCRIPTION:Please join us for a short meeting and update in the BOMA from 8:30 – 9:00 am.
URL:https://bishoustonpto.com/index.php/event/neighborhood-representatives-meeting-2-2-2-3/
LOCATION:BOMA
CATEGORIES:Neighborhood Reps
ATTACH;FMTTYPE=image/png:https://bishoustonpto.com/wp-content/uploads/2024/08/Neigborhood-Reps.png
END:VEVENT
BEGIN:VEVENT
DTSTART;TZID=America/Chicago:20250214T083000
DTEND;TZID=America/Chicago:20250214T093000
DTSTAMP:20260425T102757
CREATED:20240807T033606Z
LAST-MODIFIED:20240807T033606Z
UID:7881-1739521800-1739525400@bishoustonpto.com
SUMMARY:Monthly Coffee Morning
DESCRIPTION:This is our casual\, monthly coffee. Bring your own coffee or buy one in the BOMA and join other parents for a chat.
URL:https://bishoustonpto.com/index.php/event/monthly-coffee-morning-2-2-2-2-2/
LOCATION:BOMA
CATEGORIES:Coffee Mornings
ATTACH;FMTTYPE=image/png:https://bishoustonpto.com/wp-content/uploads/2024/08/BYOC-MORNINGS-Facebook-Cover.png
END:VEVENT
BEGIN:VEVENT
DTSTART;TZID=America/Chicago:20250226T083000
DTEND;TZID=America/Chicago:20250226T090000
DTSTAMP:20260425T102757
CREATED:20240813T114548Z
LAST-MODIFIED:20240813T114548Z
UID:7960-1740558600-1740560400@bishoustonpto.com
SUMMARY:Neighborhood Representatives Meeting
DESCRIPTION:Please join us for a short meeting and update in the BOMA from 8:30 – 9:00 am.
URL:https://bishoustonpto.com/index.php/event/neighborhood-representatives-meeting-2-2-2-3-2/
LOCATION:BOMA
CATEGORIES:Neighborhood Reps
ATTACH;FMTTYPE=image/png:https://bishoustonpto.com/wp-content/uploads/2024/08/Neigborhood-Reps.png
END:VEVENT
BEGIN:VEVENT
DTSTART;TZID=America/Chicago:20250228T183000
DTEND;TZID=America/Chicago:20250228T230000
DTSTAMP:20260425T102757
CREATED:20250205T200456Z
LAST-MODIFIED:20250216T234549Z
UID:9115-1740767400-1740783600@bishoustonpto.com
SUMMARY:PTO Parents' Night Out - Whiskey River
DESCRIPTION:Come and join us for the BIS Houston PTO Parents’ Night Out at Whiskey River! Western Dancing/ Line Dancing lessons for beginners and intermediate levels. Entrance is free! But please RSVP so we can reserve tables together!
URL:https://bishoustonpto.com/index.php/event/pto-quiz-night-march-2025-2/
LOCATION:Whisky River\, 6535 South Peek Rd\, Richmond\, TX\, 77407\, United States
CATEGORIES:Fundraising,Parent Events
ATTACH;FMTTYPE=image/jpeg:https://bishoustonpto.com/wp-content/uploads/2025/02/Website-events-images-3.jpg
END:VEVENT
BEGIN:VEVENT
DTSTART;TZID=America/Chicago:20250305T083000
DTEND;TZID=America/Chicago:20250305T093000
DTSTAMP:20260425T102757
CREATED:20250227T214839Z
LAST-MODIFIED:20250227T214930Z
UID:9316-1741163400-1741167000@bishoustonpto.com
SUMMARY:Teacher Appreciation Planning Meeting
DESCRIPTION:Thank you to those that reached out and shared interest in helping with Staff Appreciation planning. We are having our first meeting Wednesday 5th March. Please meet us in reception at 8.30am.
URL:https://bishoustonpto.com/index.php/event/teacher-appreciation-planning-meeting/
LOCATION:Meet at Reception
ATTACH;FMTTYPE=image/jpeg:https://bishoustonpto.com/wp-content/uploads/2025/02/Teacher-Appreciation-Week-2.jpg
END:VEVENT
BEGIN:VEVENT
DTSTART;TZID=America/Chicago:20250305T083000
DTEND;TZID=America/Chicago:20250305T103000
DTSTAMP:20260425T102757
CREATED:20250227T213714Z
LAST-MODIFIED:20250227T213714Z
UID:9308-1741163400-1741170600@bishoustonpto.com
SUMMARY:Summer Fayre Planning Meeting
DESCRIPTION:Help us plan summer fayre!
URL:https://bishoustonpto.com/index.php/event/summer-fayre-planning-meeting-2/
LOCATION:PTO Office
CATEGORIES:Summer Fayre
ATTACH;FMTTYPE=image/jpeg:https://bishoustonpto.com/wp-content/uploads/2025/01/Website-events-Summer-Fayre-Planning.jpg
END:VEVENT
BEGIN:VEVENT
DTSTART;TZID=America/Chicago:20250311T083000
DTEND;TZID=America/Chicago:20250311T093000
DTSTAMP:20260425T102757
CREATED:20240807T034638Z
LAST-MODIFIED:20240807T034638Z
UID:7900-1741681800-1741685400@bishoustonpto.com
SUMMARY:Membership Meeting
DESCRIPTION:Every Parent\, Guardian\, Teacher\, and Staff Member is an automatic part of the PTO. Please join us for our Membership Meeting on March 11\, 2025\, in the BOMA from 8:30 – 9:20 am. There will be a fun icebreaker and then conduct a short round of business. Drink the coffee! Eat the pastries! Come and get involved with your fellow parents and the school!
URL:https://bishoustonpto.com/index.php/event/membership-meeting-2-2/
LOCATION:BOMA
CATEGORIES:PTO Organization
ATTACH;FMTTYPE=image/png:https://bishoustonpto.com/wp-content/uploads/2024/02/PTO-MEMBERSHIP-MEETING-2-e1709226176767.png
END:VEVENT
BEGIN:VEVENT
DTSTART;TZID=America/Chicago:20250314T083000
DTEND;TZID=America/Chicago:20250314T093000
DTSTAMP:20260425T102757
CREATED:20240807T033633Z
LAST-MODIFIED:20240807T033633Z
UID:7884-1741941000-1741944600@bishoustonpto.com
SUMMARY:Monthly Coffee Morning
DESCRIPTION:This is our casual\, monthly coffee. Bring your own coffee or buy one in the BOMA and join other parents for a chat.
URL:https://bishoustonpto.com/index.php/event/monthly-coffee-morning-2-2-2-2-2-2/
LOCATION:BOMA
CATEGORIES:Coffee Mornings
ATTACH;FMTTYPE=image/png:https://bishoustonpto.com/wp-content/uploads/2024/08/BYOC-MORNINGS-Facebook-Cover.png
END:VEVENT
BEGIN:VEVENT
DTSTART;TZID=America/Chicago:20250315T190000
DTEND;TZID=America/Chicago:20250315T230000
DTSTAMP:20260425T102757
CREATED:20240807T040146Z
LAST-MODIFIED:20250315T015059Z
UID:7906-1742065200-1742079600@bishoustonpto.com
SUMMARY:PTO Quiz Night March 2025
DESCRIPTION:Come join the BIS Houston school community for a fun quiz\, socializing\, and delicious food!
URL:https://bishoustonpto.com/index.php/event/pto-quiz-night-march-2025/
LOCATION:BOMA
CATEGORIES:Fundraising,Parent Events
ATTACH;FMTTYPE=image/jpeg:https://bishoustonpto.com/wp-content/uploads/2024/08/Website-events-images-QN.jpg
END:VEVENT
BEGIN:VEVENT
DTSTART;TZID=America/Chicago:20250326T083000
DTEND;TZID=America/Chicago:20250326T090000
DTSTAMP:20260425T102757
CREATED:20240813T114625Z
LAST-MODIFIED:20240813T114625Z
UID:7963-1742977800-1742979600@bishoustonpto.com
SUMMARY:Neighborhood Representatives Meeting
DESCRIPTION:Please join us for a short meeting and update in the BOMA from 8:30 – 9:00 am.
URL:https://bishoustonpto.com/index.php/event/neighborhood-representatives-meeting-2-2-2-3-2-2/
LOCATION:BOMA
CATEGORIES:Neighborhood Reps
ATTACH;FMTTYPE=image/png:https://bishoustonpto.com/wp-content/uploads/2024/08/Neigborhood-Reps.png
END:VEVENT
BEGIN:VEVENT
DTSTART;TZID=America/Chicago:20250430T083000
DTEND;TZID=America/Chicago:20250430T090000
DTSTAMP:20260425T102757
CREATED:20240813T114700Z
LAST-MODIFIED:20240813T114700Z
UID:7966-1746001800-1746003600@bishoustonpto.com
SUMMARY:Neighborhood Representatives Meeting
DESCRIPTION:Please join us for a short meeting and update in the BOMA from 8:30 – 9:00 am.
URL:https://bishoustonpto.com/index.php/event/neighborhood-representatives-meeting-2-2-2-3-2-2-2/
LOCATION:BOMA
CATEGORIES:Neighborhood Reps
ATTACH;FMTTYPE=image/png:https://bishoustonpto.com/wp-content/uploads/2024/08/Neigborhood-Reps.png
END:VEVENT
BEGIN:VEVENT
DTSTART;TZID=America/Chicago:20250503T190000
DTEND;TZID=America/Chicago:20250503T230000
DTSTAMP:20260425T102757
CREATED:20250209T025604Z
LAST-MODIFIED:20250427T001647Z
UID:9157-1746298800-1746313200@bishoustonpto.com
SUMMARY:Year 11 Prom Celebration
DESCRIPTION:Year 11 Students are cordially invited to the Prom on May 3\, 2025\, from 7:00 – 11:00 pm at Willow Fork Country Club. \nTicket price includes a mocktail\, 3-course meal\, a DJ\, photo booth\, and individual & group photos. \nWe hope to see you there!!
URL:https://bishoustonpto.com/index.php/event/year-11-prom-celebration/
LOCATION:Willow Fork Country Club\, 21055 Westheimer Parkway\, Katy\, TX\, 77450\, United States
CATEGORIES:Neighborhood Reps
ATTACH;FMTTYPE=image/png:https://bishoustonpto.com/wp-content/uploads/2025/02/Y11-Prom-heading.png
END:VEVENT
BEGIN:VEVENT
DTSTART;VALUE=DATE:20250505
DTEND;VALUE=DATE:20250510
DTSTAMP:20260425T102757
CREATED:20250328T192853Z
LAST-MODIFIED:20250328T192853Z
UID:9628-1746403200-1746835199@bishoustonpto.com
SUMMARY:Teacher Appreciation Week!
DESCRIPTION:The teachers and staff will be celebrated throughout the week with breakfasts\, lunches and snacks\, and prize draws! We can’t wait to show them how much they mean to us! \nMore details coming soon!
URL:https://bishoustonpto.com/index.php/event/teacher-appreciation-week/
ATTACH;FMTTYPE=image/jpeg:https://bishoustonpto.com/wp-content/uploads/2025/03/Teacher-Appreciation-week-2025.jpg
END:VEVENT
BEGIN:VEVENT
DTSTART;TZID=America/Chicago:20250506T083000
DTEND;TZID=America/Chicago:20250506T093000
DTSTAMP:20260425T102757
CREATED:20240807T034729Z
LAST-MODIFIED:20240813T114135Z
UID:7903-1746520200-1746523800@bishoustonpto.com
SUMMARY:Membership Meeting
DESCRIPTION:Every Parent\, Guardian\, Teacher\, and Staff Member is an automatic part of the PTO. Please join us for our Membership Meeting on May 6\, 2025\, in the BOMA from 8:30 – 9:20 am. There will be a fun icebreaker and then conduct a short round of business. Drink the coffee! Eat the pastries! Come and get involved with your fellow parents and the school!
URL:https://bishoustonpto.com/index.php/event/membership-meeting-2-2-2/
LOCATION:BOMA
CATEGORIES:PTO Organization
ATTACH;FMTTYPE=image/png:https://bishoustonpto.com/wp-content/uploads/2024/02/PTO-MEMBERSHIP-MEETING-2-e1709226176767.png
END:VEVENT
BEGIN:VEVENT
DTSTART;TZID=America/Chicago:20250509T083000
DTEND;TZID=America/Chicago:20250509T093000
DTSTAMP:20260425T102757
CREATED:20240807T033708Z
LAST-MODIFIED:20240807T033708Z
UID:7887-1746779400-1746783000@bishoustonpto.com
SUMMARY:Monthly Coffee Morning
DESCRIPTION:This is our casual\, monthly coffee. Bring your own coffee or buy one in the BOMA and join other parents for a chat.
URL:https://bishoustonpto.com/index.php/event/monthly-coffee-morning-2-2-2-2-2-2-2/
LOCATION:BOMA
CATEGORIES:Coffee Mornings
ATTACH;FMTTYPE=image/png:https://bishoustonpto.com/wp-content/uploads/2024/08/BYOC-MORNINGS-Facebook-Cover.png
END:VEVENT
BEGIN:VEVENT
DTSTART;TZID=America/Chicago:20250517T183000
DTEND;TZID=America/Chicago:20250517T210000
DTSTAMP:20260425T102757
CREATED:20250416T151716Z
LAST-MODIFIED:20250517T032150Z
UID:9706-1747506600-1747515600@bishoustonpto.com
SUMMARY:Year 9 End of Middle School Party
DESCRIPTION:Year 9 Students are invited to attend the “Year 9 End of Middle School Party” at the Clubhouse in Lakes of Parkway on May 17th 6.30pm – 9pm. \nWe are asking students to buy a ticket for $25 to help cover costs\, and to give us a headcount for the event! \nIt will be a fantastic night with 2 rooms of fun \n\nMusic and dancing with DJ Harrison\nPhoto opportunities\nMocktails and snacks\, pizza\nGames room\n\nThe event will be supervised by parents\, and only Y9 Students may attend. \nPlease let us know if your student has any allergies so we can try and cater for them! \nDress Code: No pressure but Glitz and Glam is the theme! But it is more important that the students come and have fun! \nGo Year 9 Bulldogs!
URL:https://bishoustonpto.com/index.php/event/year-9-end-of-middle-school-party/
LOCATION:Clubhouse\, Lakes of Parkway\, 13935 Barnhart Blvd.\, Houston\, TX\, 77077\, United States
ATTACH;FMTTYPE=image/jpeg:https://bishoustonpto.com/wp-content/uploads/2025/04/Y9-End-of-MS-Party-Website-2.jpg
END:VEVENT
BEGIN:VEVENT
DTSTART;TZID=America/Chicago:20250521T083000
DTEND;TZID=America/Chicago:20250521T090000
DTSTAMP:20260425T102757
CREATED:20240813T114818Z
LAST-MODIFIED:20250501T183657Z
UID:7968-1747816200-1747818000@bishoustonpto.com
SUMMARY:Neighborhood Representatives Meeting
DESCRIPTION:Please join us for a short meeting and update in the BOMA from 8:30 – 9:00 am.
URL:https://bishoustonpto.com/index.php/event/neighborhood-representatives-meeting-2-2-2-3-2-2-2-2/
LOCATION:BOMA
CATEGORIES:Neighborhood Reps
ATTACH;FMTTYPE=image/png:https://bishoustonpto.com/wp-content/uploads/2024/08/Neigborhood-Reps.png
END:VEVENT
BEGIN:VEVENT
DTSTART;TZID=America/Chicago:20250611T083000
DTEND;TZID=America/Chicago:20250611T093000
DTSTAMP:20260425T102757
CREATED:20240813T114901Z
LAST-MODIFIED:20240813T114901Z
UID:7971-1749630600-1749634200@bishoustonpto.com
SUMMARY:Neighborhood Representatives Meeting
DESCRIPTION:Please join us for a short meeting and update in the BOMA from 8:30 – 9:30 am.
URL:https://bishoustonpto.com/index.php/event/neighborhood-representatives-meeting-2-2-2-3-2-2-2-2-2/
LOCATION:BOMA
CATEGORIES:Neighborhood Reps
ATTACH;FMTTYPE=image/png:https://bishoustonpto.com/wp-content/uploads/2024/08/Neigborhood-Reps.png
END:VEVENT
BEGIN:VEVENT
DTSTART;TZID=America/Chicago:20250612T153000
DTEND;TZID=America/Chicago:20250612T173000
DTSTAMP:20260425T102757
CREATED:20240807T040929Z
LAST-MODIFIED:20250407T003309Z
UID:7919-1749742200-1749749400@bishoustonpto.com
SUMMARY:Summer Fayre
DESCRIPTION:Please come for the Summer Fayre Splash on June 12\, 2025\, from 3:30 pm – 5:30 pm! \n 
URL:https://bishoustonpto.com/index.php/event/summer-fayre-2/
LOCATION:British International School of Houston\, TX\, United States
CATEGORIES:School Event,Summer Fayre
ATTACH;FMTTYPE=image/jpeg:https://bishoustonpto.com/wp-content/uploads/2025/04/6.jpg
END:VEVENT
BEGIN:VEVENT
DTSTART;TZID=America/Chicago:20250812T130000
DTEND;TZID=America/Chicago:20250812T150000
DTSTAMP:20260425T102757
CREATED:20250811T192010Z
LAST-MODIFIED:20250811T192010Z
UID:10248-1755003600-1755010800@bishoustonpto.com
SUMMARY:Orientation Day
DESCRIPTION:New Families – Come and meeting the PTO and your Neighborhood Parents in the BOMA!
URL:https://bishoustonpto.com/index.php/event/orientation-day/
LOCATION:BOMA
ATTACH;FMTTYPE=image/jpeg:https://bishoustonpto.com/wp-content/uploads/2025/08/Orientation-Day.jpg
END:VEVENT
BEGIN:VEVENT
DTSTART;TZID=America/Chicago:20250815T083000
DTEND;TZID=America/Chicago:20250815T093000
DTSTAMP:20260425T102757
CREATED:20250807T154455Z
LAST-MODIFIED:20250809T201845Z
UID:10226-1755246600-1755250200@bishoustonpto.com
SUMMARY:Welcome Back Coffee
DESCRIPTION:Please join us for our “Welcome Back Coffee” in the BOMA! Meet the PTO board\, get a coffee/ tea and pastry!
URL:https://bishoustonpto.com/index.php/event/welcome-back-coffee/
LOCATION:BOMA
CATEGORIES:Coffee Mornings
ATTACH;FMTTYPE=image/jpeg:https://bishoustonpto.com/wp-content/uploads/2025/08/welcome-back-coffee-2025a.jpg
END:VEVENT
BEGIN:VEVENT
DTSTART;TZID=America/Chicago:20250827T083000
DTEND;TZID=America/Chicago:20250827T093000
DTSTAMP:20260425T102757
CREATED:20250815T191523Z
LAST-MODIFIED:20250815T191523Z
UID:10315-1756283400-1756287000@bishoustonpto.com
SUMMARY:Neighborhood Parent Meeting
DESCRIPTION:Meeting for Neighborhood Parents (Parent Reps) for all year groups.
URL:https://bishoustonpto.com/index.php/event/neighborhood-parent-meeting/
LOCATION:The Hub\, A100s corridor
ATTACH;FMTTYPE=image/jpeg:https://bishoustonpto.com/wp-content/uploads/2025/08/Neigborhood-Parent-Meeting.jpg
END:VEVENT
END:VCALENDAR