BEGIN:VCALENDAR
VERSION:2.0
PRODID:-//bishoustonpto.com - ECPv6.15.20//NONSGML v1.0//EN
CALSCALE:GREGORIAN
METHOD:PUBLISH
X-WR-CALNAME:bishoustonpto.com
X-ORIGINAL-URL:https://bishoustonpto.com
X-WR-CALDESC:Events for bishoustonpto.com
REFRESH-INTERVAL;VALUE=DURATION:PT1H
X-Robots-Tag:noindex
X-PUBLISHED-TTL:PT1H
BEGIN:VTIMEZONE
TZID:America/Chicago
BEGIN:DAYLIGHT
TZOFFSETFROM:-0600
TZOFFSETTO:-0500
TZNAME:CDT
DTSTART:20220313T080000
END:DAYLIGHT
BEGIN:STANDARD
TZOFFSETFROM:-0500
TZOFFSETTO:-0600
TZNAME:CST
DTSTART:20221106T070000
END:STANDARD
BEGIN:DAYLIGHT
TZOFFSETFROM:-0600
TZOFFSETTO:-0500
TZNAME:CDT
DTSTART:20230312T080000
END:DAYLIGHT
BEGIN:STANDARD
TZOFFSETFROM:-0500
TZOFFSETTO:-0600
TZNAME:CST
DTSTART:20231105T070000
END:STANDARD
BEGIN:DAYLIGHT
TZOFFSETFROM:-0600
TZOFFSETTO:-0500
TZNAME:CDT
DTSTART:20240310T080000
END:DAYLIGHT
BEGIN:STANDARD
TZOFFSETFROM:-0500
TZOFFSETTO:-0600
TZNAME:CST
DTSTART:20241103T070000
END:STANDARD
END:VTIMEZONE
BEGIN:VEVENT
DTSTART;TZID=America/Chicago:20230502T083000
DTEND;TZID=America/Chicago:20230502T213000
DTSTAMP:20260424T093050
CREATED:20230428T171521Z
LAST-MODIFIED:20230428T171704Z
UID:4909-1683016200-1683063000@bishoustonpto.com
SUMMARY:Summer Fayre Planning Meeting
DESCRIPTION:Please join us in the BOMA on Tuesday\, May 2\, from 8:30 – 9:30 am to plan Summer Fayre.
URL:https://bishoustonpto.com/index.php/event/summer-fayre-planning-meeting/
CATEGORIES:Summer Fayre
ATTACH;FMTTYPE=image/png:https://bishoustonpto.com/wp-content/uploads/2023/03/Summer-Fayre-Flyer.png
END:VEVENT
END:VCALENDAR