BEGIN:VCALENDAR
VERSION:2.0
PRODID:-//bishoustonpto.com - ECPv6.15.20//NONSGML v1.0//EN
CALSCALE:GREGORIAN
METHOD:PUBLISH
X-WR-CALNAME:bishoustonpto.com
X-ORIGINAL-URL:https://bishoustonpto.com
X-WR-CALDESC:Events for bishoustonpto.com
REFRESH-INTERVAL;VALUE=DURATION:PT1H
X-Robots-Tag:noindex
X-PUBLISHED-TTL:PT1H
BEGIN:VTIMEZONE
TZID:America/Chicago
BEGIN:DAYLIGHT
TZOFFSETFROM:-0600
TZOFFSETTO:-0500
TZNAME:CDT
DTSTART:20230312T080000
END:DAYLIGHT
BEGIN:STANDARD
TZOFFSETFROM:-0500
TZOFFSETTO:-0600
TZNAME:CST
DTSTART:20231105T070000
END:STANDARD
BEGIN:DAYLIGHT
TZOFFSETFROM:-0600
TZOFFSETTO:-0500
TZNAME:CDT
DTSTART:20240310T080000
END:DAYLIGHT
BEGIN:STANDARD
TZOFFSETFROM:-0500
TZOFFSETTO:-0600
TZNAME:CST
DTSTART:20241103T070000
END:STANDARD
BEGIN:DAYLIGHT
TZOFFSETFROM:-0600
TZOFFSETTO:-0500
TZNAME:CDT
DTSTART:20250309T080000
END:DAYLIGHT
BEGIN:STANDARD
TZOFFSETFROM:-0500
TZOFFSETTO:-0600
TZNAME:CST
DTSTART:20251102T070000
END:STANDARD
END:VTIMEZONE
BEGIN:VEVENT
DTSTART;TZID=America/Chicago:20240316T080000
DTEND;TZID=America/Chicago:20240316T120000
DTSTAMP:20260425T182819
CREATED:20240209T003151Z
LAST-MODIFIED:20240209T004934Z
UID:6612-1710576000-1710590400@bishoustonpto.com
SUMMARY:Houston Food Bank
DESCRIPTION:Please join other members of the BIS Houston parent and student community to help pack food for hungry Houstonians. \nWe will meet at the Houston Food Bank at 7:45 am for registration and pack food from 8:00 am – noon. Both adults and children (at least 8 years old) are welcome to join. \nWe do need you to RSVP as the food bank will assign us a task depending on the number of people attending. If you RSVP and find out that you can’t attend\, please let us know immediately at info@bishoustonpto.com so that we can fill your spots. \nIf you would also like to make a financial donation\, please click here.
URL:https://bishoustonpto.com/index.php/event/houston-food-bank/
LOCATION:Houston Food Bank\, 535 Portwall Street\, Houston\, TX\, 77029\, United States
CATEGORIES:Parent Events,PTO Organization
ATTACH;FMTTYPE=image/jpeg:https://bishoustonpto.com/wp-content/uploads/2024/02/Houston-food-bank-11.jpg
END:VEVENT
END:VCALENDAR